BEGIN:VCALENDAR
VERSION:2.0
PRODID:-//Contratero//ES
CALSCALE:GREGORIAN
METHOD:PUBLISH
BEGIN:VEVENT
UID:2ª LICITACIÓN PAG. WEB. GEX 86/2025@contratero.es
DTSTAMP:20260419T161343Z
DTSTART:20250926T235959
DTEND:20250927T005959
SUMMARY:Cierre: El contrato\, que al amparo del presente Pliego de 
DESCRIPTION:El contrato\, que al amparo del presente Pliego de Cláusulas Administrativas Particulares se celebre\, tendrá por objeto la gestión y el mantenimiento de la plataforma web\, de las redes sociales\, diseño...\\n\\nOrganismo: Alcaldía de Ayuntamiento de Carcabuey\\n\\nVer en Contratero: https://contratero.es/contracts/2ª LICITACIÓN PAG. WEB. GEX 86/2025
URL:https://contratero.es/contracts/2ª LICITACIÓN PAG. WEB. GEX 86/2025
STATUS:CONFIRMED
BEGIN:VALARM
TRIGGER:-P1D
ACTION:DISPLAY
DESCRIPTION:Recordatorio: El contrato\, que al amparo del
END:VALARM
END:VEVENT
END:VCALENDAR